BEGIN:VCALENDAR
VERSION:2.0
PRODID:-//SPD Dahlem - ECPv6.15.20//NONSGML v1.0//EN
CALSCALE:GREGORIAN
METHOD:PUBLISH
X-WR-CALNAME:SPD Dahlem
X-ORIGINAL-URL:http://spd-dahlem.de
X-WR-CALDESC:Veranstaltungen für SPD Dahlem
REFRESH-INTERVAL;VALUE=DURATION:PT1H
X-Robots-Tag:noindex
X-PUBLISHED-TTL:PT1H
BEGIN:VTIMEZONE
TZID:Europe/Berlin
BEGIN:DAYLIGHT
TZOFFSETFROM:+0100
TZOFFSETTO:+0200
TZNAME:CEST
DTSTART:20250330T010000
END:DAYLIGHT
BEGIN:STANDARD
TZOFFSETFROM:+0200
TZOFFSETTO:+0100
TZNAME:CET
DTSTART:20251026T010000
END:STANDARD
BEGIN:DAYLIGHT
TZOFFSETFROM:+0100
TZOFFSETTO:+0200
TZNAME:CEST
DTSTART:20260329T010000
END:DAYLIGHT
BEGIN:STANDARD
TZOFFSETFROM:+0200
TZOFFSETTO:+0100
TZNAME:CET
DTSTART:20261025T010000
END:STANDARD
BEGIN:DAYLIGHT
TZOFFSETFROM:+0100
TZOFFSETTO:+0200
TZNAME:CEST
DTSTART:20270328T010000
END:DAYLIGHT
BEGIN:STANDARD
TZOFFSETFROM:+0200
TZOFFSETTO:+0100
TZNAME:CET
DTSTART:20271031T010000
END:STANDARD
END:VTIMEZONE
BEGIN:VEVENT
DTSTART;TZID=Europe/Berlin:20260425T070000
DTEND;TZID=Europe/Berlin:20260426T220000
DTSTAMP:20260426T020431
CREATED:20260411T031113Z
LAST-MODIFIED:20260411T031449Z
UID:2266-1777100400-1777240800@spd-dahlem.de
SUMMARY:Wroclaw-Fahrt
DESCRIPTION:Herzlich einladen wollen wir Euch zu unserem jährlichen Besuch in WROCLAW/BRESLAU.\nWeitere Details zur Fahrt findet ihr hier.
URL:http://spd-dahlem.de/termin/wroclaw-fahrt-2
CATEGORIES:Fahrt
END:VEVENT
END:VCALENDAR